BEGIN:VCALENDAR
VERSION:2.0
PRODID:-//En Vivo Producciones - ECPv6.13.1//NONSGML v1.0//EN
CALSCALE:GREGORIAN
METHOD:PUBLISH
X-WR-CALNAME:En Vivo Producciones
X-ORIGINAL-URL:https://www.envivoproducciones.net
X-WR-CALDESC:Eventos para En Vivo Producciones
REFRESH-INTERVAL;VALUE=DURATION:PT1H
X-Robots-Tag:noindex
X-PUBLISHED-TTL:PT1H
BEGIN:VTIMEZONE
TZID:America/Argentina/Cordoba
BEGIN:STANDARD
TZOFFSETFROM:-0300
TZOFFSETTO:-0300
TZNAME:-03
DTSTART:20240101T000000
END:STANDARD
END:VTIMEZONE
BEGIN:VEVENT
DTSTART;TZID=America/Argentina/Cordoba:20240524T210000
DTEND;TZID=America/Argentina/Cordoba:20240524T235900
DTSTAMP:20260419T112326
CREATED:20240306T233148Z
LAST-MODIFIED:20250312T183004Z
UID:25277-1716584400-1716595140@www.envivoproducciones.net
SUMMARY:BABASONICOS - PLAZA DE LA MUSICA
DESCRIPTION:BABASONICOSVIERNES 24 DE MAYOPLAZA DE LA MÚSICA\n \n  \nDESPUES DE UN EXITOSO 2023 EN DONDE CONVOCARON55.000 PERSONAS EN EL CAMPO DE POLO Y REALIZARONGIRAS POR EUROPA\, USA Y TODA LATINOAMERICA SIGUEN \nPRESENTANDOSE EN LOS PRINCIPALESESCENARIOS DEL MUNDOEntradas disponibles enedenentradas.com.ar  \n  \n  \n  \n  \n  \n  \n…” el show masivo termino por ratificar que Babasonicos no es solo uno delos mejores grupos del mundo\, sino también una rara avis” …Yumber Vera Página 12…” este gran show fue el resultado de una popularidad masiva y unavigencia poco usual entre las agrupaciones con más de 30 años dehistoria” …Marcelo F Bitar Clarín \n…” Babasonicos sigue manteniendo en alto la premisa de ser una bandade rock que se sostiene por su actitud sobre el escenario y sus canciones”…Sebastián Esposito La Nación…” el imbatible repertorio elegido y la fantástica performance del grupo\,que una vez mas ratifico que tiene uno de los mejores vivos de la escenalocal” …Hernani Natale TélamSu nueva canción Tajada y los temas que siempre disfrutamos de suamplio repertorio seguirán siendo la excusa perfecta para esta nuevaconvocatoria tan solicitada por los fans \nComo siempre\, en todos los tiempos\, Babasonicos es un fiel reflejode la búsqueda de novedad; los riesgos musicales están presentes encada uno de sus lanzamientos y prevalece la irrenunciable búsquedade la canción perfecta. \nENTRADAS A LA VENTA ENedenentradas.com.ar \n  \n			Comprar Tickets
URL:https://www.envivoproducciones.net/event/babasonicos-plaza-de-la-musica/
LOCATION:Plaza de la Música\, Int. Ramón Bautista Mestre &\, Mendoza\, Córdoba\, Córdoba\, Córdoba\, 5000\, Argentina
CATEGORIES:Show
ATTACH;FMTTYPE=image/png:https://www.envivoproducciones.net/wp-content/uploads/2024/03/Diseno-sin-titulo-14.png
END:VEVENT
END:VCALENDAR