BEGIN:VCALENDAR
VERSION:2.0
PRODID:-//En Vivo Producciones - ECPv6.13.1//NONSGML v1.0//EN
CALSCALE:GREGORIAN
METHOD:PUBLISH
X-ORIGINAL-URL:https://www.envivoproducciones.net
X-WR-CALDESC:Eventos para En Vivo Producciones
REFRESH-INTERVAL;VALUE=DURATION:PT1H
X-Robots-Tag:noindex
X-PUBLISHED-TTL:PT1H
BEGIN:VTIMEZONE
TZID:America/Argentina/Cordoba
BEGIN:STANDARD
TZOFFSETFROM:-0300
TZOFFSETTO:-0300
TZNAME:-03
DTSTART:20240101T000000
END:STANDARD
END:VTIMEZONE
BEGIN:VEVENT
DTSTART;TZID=America/Argentina/Cordoba:20240601T210000
DTEND;TZID=America/Argentina/Cordoba:20240601T230000
DTSTAMP:20260419T100403
CREATED:20240517T182230Z
LAST-MODIFIED:20250312T183004Z
UID:25991-1717275600-1717282800@www.envivoproducciones.net
SUMMARY:GUASONES - ESTADIO ATENAS
DESCRIPTION:Guasones\nllega a sacudir el\nEstadio Atenas con todo el rock!\n 
URL:https://www.envivoproducciones.net/event/guasones-estadio-atenas/
LOCATION:Estadio Atenas\, Alejandro Aguado 687\, Cordoba\, Córdoba\, 5000\, Argentina
CATEGORIES:Show
ATTACH;FMTTYPE=image/png:https://www.envivoproducciones.net/wp-content/uploads/2024/05/Untitled-design-13.png
END:VEVENT
END:VCALENDAR