BEGIN:VCALENDAR
VERSION:2.0
PRODID:-//En Vivo Producciones - ECPv6.13.1//NONSGML v1.0//EN
CALSCALE:GREGORIAN
METHOD:PUBLISH
X-WR-CALNAME:En Vivo Producciones
X-ORIGINAL-URL:https://www.envivoproducciones.net
X-WR-CALDESC:Eventos para En Vivo Producciones
REFRESH-INTERVAL;VALUE=DURATION:PT1H
X-Robots-Tag:noindex
X-PUBLISHED-TTL:PT1H
BEGIN:VTIMEZONE
TZID:America/Argentina/Cordoba
BEGIN:STANDARD
TZOFFSETFROM:-0300
TZOFFSETTO:-0300
TZNAME:-03
DTSTART:20240101T000000
END:STANDARD
END:VTIMEZONE
BEGIN:VEVENT
DTSTART;TZID=America/Argentina/Cordoba:20240606T210000
DTEND;TZID=America/Argentina/Cordoba:20240607T230000
DTSTAMP:20260419T101937
CREATED:20240516T172746Z
LAST-MODIFIED:20250312T183003Z
UID:25912-1717707600-1717801200@www.envivoproducciones.net
SUMMARY:AIRBAG - ESTADIO ATENAS
DESCRIPTION:AIRBAG\n\n\n\n\n\n\n\n\n\nEN UNA NUEVA CELEBRACIÓN A PURO ROCK EN EL NUEVO ESTADIO ATENAS\n\n\n\n\n\n\n\n\nVIERNES 7 DE JUNIO\nATENAS ESTADIO\n\n\n\n\n\n\n\n\n\nLuego de haberse presentado ante mas de 45  mil personas en Velez y haber realizado 6 luna parks vuelven a rockear en Córdoba. \n\n\n\n\n\n\n\n\n\nEntradas disponibles en\nedenentradas.com.ar\n\n\n\n\n\n\n\n\n\n\n\n\n\n\n\n\n\n\n\n\n\n\n\nMATERIALES DE PRENSA\n\n\n\n\n\n\n\n\n\nAirbag cerró el 2023 brindando el show más grande de su carrera hasta el\nmomento\, su primer Estadio Vélez con entradas agotadas y una celebración ante más de 45 mil personas. \nLos hermanos Sardelli dejan una marca insuperable cada vez que suben a un escenario\, una conexión explosiva con sus fans y versiones siempre nuevas y sorpresivas de las canciones que escriben su trayectoria. \nBuscando nuevos momentos inolvidables anunciaron su debút en el nuevo Atenas Estadio\, un encuentro muy esperado por su público cordobes. \nPatricio\, Guido y Gaston Sardelli vienen transitando una gran etapa y son una de lasbandas más convocantes del país. \nHabiendo tocado por primera vez en el Estadio Argentinos Juniors en un show histórico\, con dos Movistar Arena agotados ante más de 30 mil personas\, y una exitosa gira por España y Latinoamérica\, que los llevó por Barcelona\, Madrid\, Alicante\, Valencia y Mallorca\, entre otras ciudades\, demostrando la firmeza de su identidad artística y el impacto que tienen en la escena musical. \nMás de 350.000 personas ya fueron parte de la celebración de Airbag en lo que va de este año en el Cosquín Rock y la Fiesta de la Confluencia. \nAdemás de su actividad sobre el escenario\, Airbag no deja de sorprender y trabajar en estudio para regalar nuevas canciones. Su último single “Nunca lo Olvides” que sonó en Vélez por primera vez ya se ha convertido en otro hit. \n\n\n\n\n\n\n\n\n\nENTRADAS A LA VENTA EN\nedenentradas.com.ar
URL:https://www.envivoproducciones.net/event/25912/
LOCATION:Estadio Atenas\, Alejandro Aguado 687\, Cordoba\, Córdoba\, 5000\, Argentina
CATEGORIES:Show
ATTACH;FMTTYPE=image/png:https://www.envivoproducciones.net/wp-content/uploads/2024/05/Untitled-design-16.png
END:VEVENT
END:VCALENDAR