BEGIN:VCALENDAR
VERSION:2.0
PRODID:-//En Vivo Producciones - ECPv6.13.1//NONSGML v1.0//EN
CALSCALE:GREGORIAN
METHOD:PUBLISH
X-ORIGINAL-URL:https://www.envivoproducciones.net
X-WR-CALDESC:Eventos para En Vivo Producciones
REFRESH-INTERVAL;VALUE=DURATION:PT1H
X-Robots-Tag:noindex
X-PUBLISHED-TTL:PT1H
BEGIN:VTIMEZONE
TZID:America/Argentina/Cordoba
BEGIN:STANDARD
TZOFFSETFROM:-0300
TZOFFSETTO:-0300
TZNAME:-03
DTSTART:20240101T000000
END:STANDARD
END:VTIMEZONE
BEGIN:VEVENT
DTSTART;TZID=America/Argentina/Cordoba:20240912T210000
DTEND;TZID=America/Argentina/Cordoba:20240912T230000
DTSTAMP:20260419T101037
CREATED:20240516T180502Z
LAST-MODIFIED:20250312T182946Z
UID:25928-1726174800-1726182000@www.envivoproducciones.net
SUMMARY:MARWAN - STUDIO THEATRE
DESCRIPTION:Marwan\n \nEl cantautor y poeta español Marwan regresa a la Argentina tras cinco años.\nMarwan es considerado una de las principales voces de España y Latinoamérica y tras dos décadas de giras nacionales e internacionales y haber vendido 200.000 libros en todo el mundo\, regresa con su nuevo disco 20 aniversario “Canciones para una urgencia”\n\n🗓 12/9\n🎫 Entradas a la venta en @edenentradas\n📍 Studio Theater
URL:https://www.envivoproducciones.net/event/25928/
LOCATION:Studio Theatre\, Rosario de Sta. Fe 272\, X5000ACF Córdoba\, Córdoba\, Argentina
CATEGORIES:Show
ATTACH;FMTTYPE=image/png:https://www.envivoproducciones.net/wp-content/uploads/2024/05/Untitled-design-5.png
END:VEVENT
BEGIN:VEVENT
DTSTART;TZID=America/Argentina/Cordoba:20240912T210000
DTEND;TZID=America/Argentina/Cordoba:20240912T230000
DTSTAMP:20260419T101037
CREATED:20240812T160631Z
LAST-MODIFIED:20250312T182946Z
UID:26383-1726174800-1726182000@www.envivoproducciones.net
SUMMARY:DILLOM - PLAZA DE LA MÚSICA
DESCRIPTION:Llega @rip.dillom con su show “Por Cesárea” a Plaza de la Música y no te lo podes perder 🪡 \n🗓️12/09\n🎫 entradas por @edenentradas mañana 12hs\n💳 3 cuotas sin interés con @naranjax
URL:https://www.envivoproducciones.net/event/dillom-plaza-de-la-musica/
LOCATION:Plaza de la Música\, Int. Ramón Bautista Mestre &\, Mendoza\, Córdoba\, Córdoba\, Córdoba\, 5000\, Argentina
CATEGORIES:Show
ATTACH;FMTTYPE=image/jpeg:https://www.envivoproducciones.net/wp-content/uploads/2024/08/Diseno-sin-titulo-33.jpg
END:VEVENT
END:VCALENDAR