BEGIN:VCALENDAR
VERSION:2.0
PRODID:-//En Vivo Producciones - ECPv6.13.1//NONSGML v1.0//EN
CALSCALE:GREGORIAN
METHOD:PUBLISH
X-WR-CALNAME:En Vivo Producciones
X-ORIGINAL-URL:https://www.envivoproducciones.net
X-WR-CALDESC:Eventos para En Vivo Producciones
REFRESH-INTERVAL;VALUE=DURATION:PT1H
X-Robots-Tag:noindex
X-PUBLISHED-TTL:PT1H
BEGIN:VTIMEZONE
TZID:America/Argentina/Cordoba
BEGIN:STANDARD
TZOFFSETFROM:-0300
TZOFFSETTO:-0300
TZNAME:-03
DTSTART:20240101T000000
END:STANDARD
END:VTIMEZONE
BEGIN:VEVENT
DTSTART;TZID=America/Argentina/Cordoba:20240920T200000
DTEND;TZID=America/Argentina/Cordoba:20240920T220000
DTSTAMP:20260420T053831
CREATED:20240705T194659Z
LAST-MODIFIED:20250312T182930Z
UID:26297-1726862400-1726869600@www.envivoproducciones.net
SUMMARY:ISLA DE CARAS - CLUB PARAGUAY
DESCRIPTION:“CÓRDOBA NOS VOLVEMOS A VER🌞⌛️Nos reencontramos en @clubparaguay este 20 de septiembre para cantar juntos en una fiesta primaveral🌻 Qué ganasssss🪸”
URL:https://www.envivoproducciones.net/event/isla-de-caras-club-paraguay/
LOCATION:Sala Formosa\, Dr. T. Achaval Rodriguez 345\, X5000BKG X5000BKG\, Córdoba\, Córdoba\, Córdoba\, 5000\, Argentina
CATEGORIES:Show
ATTACH;FMTTYPE=image/jpeg:https://www.envivoproducciones.net/wp-content/uploads/2024/07/Diseno-sin-titulo-31.jpg
END:VEVENT
END:VCALENDAR